Package: cellity Version: 1.39.0 Command: /home/biocbuild/bbs-3.23-bioc/R/bin/R CMD build --keep-empty-dirs --no-resave-data cellity StartedAt: 2025-11-04 16:38:43 -0500 (Tue, 04 Nov 2025) EndedAt: 2025-11-04 16:39:51 -0500 (Tue, 04 Nov 2025) EllapsedTime: 68.0 seconds RetCode: 0 Status: OK PackageFile: cellity_1.39.0.tar.gz PackageFileSize: 1.233 MiB