Package: cellity Version: 1.37.0 Command: /Library/Frameworks/R.framework/Resources/bin/R CMD INSTALL cellity StartedAt: 2025-10-14 15:35:33 -0400 (Tue, 14 Oct 2025) EndedAt: 2025-10-14 15:35:59 -0400 (Tue, 14 Oct 2025) EllapsedTime: 25.8 seconds RetCode: 0 Status: OK