Package: cellity Version: 1.39.0 Maintainer: Tomislav Ilicic MaintainerEmail: ti243 at cam.ac.uk git_url: https://git.bioconductor.org/packages/cellity git_branch: devel git_last_commit: 6d83db0 git_last_commit_date: 2025-10-29 10:30:11 -0500 (Wed, 29 Oct 2025)