Package: cellbaseR Version: 1.33.0 Command: /home/biocbuild/R/R/bin/R CMD INSTALL cellbaseR StartedAt: 2025-10-13 20:59:10 -0000 (Mon, 13 Oct 2025) EndedAt: 2025-10-13 20:59:28 -0000 (Mon, 13 Oct 2025) EllapsedTime: 18.8 seconds RetCode: 0 Status: OK