Package: cellbaseR Version: 1.33.0 Command: /home/biocbuild/bbs-3.22-bioc/R/bin/R CMD check --install=check:cellbaseR.install-out.txt --library=/home/biocbuild/bbs-3.22-bioc/R/site-library --timings cellbaseR_1.33.0.tar.gz StartedAt: 2025-10-12 21:59:59 -0400 (Sun, 12 Oct 2025) EndedAt: 2025-10-12 22:03:17 -0400 (Sun, 12 Oct 2025) EllapsedTime: 198.5 seconds RetCode: 0 Status: OK CheckDir: cellbaseR.Rcheck Warnings: 0