Package: cellbaseR Version: 1.35.0 Command: /home/biocbuild/bbs-3.23-bioc/R/bin/R CMD INSTALL cellbaseR StartedAt: 2025-11-20 15:23:28 -0500 (Thu, 20 Nov 2025) EndedAt: 2025-11-20 15:23:42 -0500 (Thu, 20 Nov 2025) EllapsedTime: 13.9 seconds RetCode: 0 Status: OK