Package: celda Version: 1.25.0 Command: /Library/Frameworks/R.framework/Resources/bin/R CMD INSTALL celda StartedAt: 2025-10-24 15:53:37 -0400 (Fri, 24 Oct 2025) EndedAt: 2025-10-24 15:54:58 -0400 (Fri, 24 Oct 2025) EllapsedTime: 81.0 seconds RetCode: 0 Status: OK