Package: celda Version: 1.25.0 Command: /Library/Frameworks/R.framework/Resources/bin/R CMD build --keep-empty-dirs --no-resave-data celda StartedAt: 2025-10-23 16:19:38 -0400 (Thu, 23 Oct 2025) EndedAt: 2025-10-23 16:25:12 -0400 (Thu, 23 Oct 2025) EllapsedTime: 333.5 seconds RetCode: 0 Status: OK PackageFile: celda_1.25.0.tar.gz PackageFileSize: 2.481 MiB