Package: celda Version: 1.25.0 Command: rm -rf celda.buildbin-libdir && mkdir celda.buildbin-libdir && /Users/biocbuild/BBS/utils/build-universal.sh celda_1.25.0.tar.gz /Library/Frameworks/R.framework/Resources/bin/R celda.buildbin-libdir StartedAt: 2025-10-25 01:31:39 -0400 (Sat, 25 Oct 2025) EndedAt: 2025-10-25 01:33:04 -0400 (Sat, 25 Oct 2025) EllapsedTime: 85.5 seconds RetCode: 0 Status: OK PackageFile: celda_1.25.0.tgz PackageFileSize: 3.438 MiB