Package: celaref Version: 1.29.0 Command: /home/biocbuild/bbs-3.23-bioc/R/bin/R CMD INSTALL celaref StartedAt: 2025-11-06 15:19:46 -0500 (Thu, 06 Nov 2025) EndedAt: 2025-11-06 15:20:13 -0500 (Thu, 06 Nov 2025) EllapsedTime: 26.8 seconds RetCode: 0 Status: OK