Package: celaref Version: 1.29.0 Command: /home/biocbuild/bbs-3.23-bioc/R/bin/R CMD build --keep-empty-dirs --no-resave-data celaref StartedAt: 2025-11-06 16:37:32 -0500 (Thu, 06 Nov 2025) EndedAt: 2025-11-06 16:40:20 -0500 (Thu, 06 Nov 2025) EllapsedTime: 168.1 seconds RetCode: 0 Status: OK PackageFile: celaref_1.29.0.tar.gz PackageFileSize: 2.967 MiB