Package: celaref Version: 1.27.0 Command: /Library/Frameworks/R.framework/Resources/bin/R CMD INSTALL celaref StartedAt: 2025-10-16 15:49:54 -0400 (Thu, 16 Oct 2025) EndedAt: 2025-10-16 15:50:32 -0400 (Thu, 16 Oct 2025) EllapsedTime: 37.9 seconds RetCode: 0 Status: OK