Package: celaref Version: 1.27.0 Command: rm -rf celaref.buildbin-libdir && mkdir celaref.buildbin-libdir && /Users/biocbuild/BBS/utils/build-universal.sh celaref_1.27.0.tar.gz /Library/Frameworks/R.framework/Resources/bin/R celaref.buildbin-libdir StartedAt: 2025-10-17 03:41:36 -0400 (Fri, 17 Oct 2025) EndedAt: 2025-10-17 03:42:18 -0400 (Fri, 17 Oct 2025) EllapsedTime: 41.7 seconds RetCode: 0 Status: OK PackageFile: celaref_1.27.0.tgz PackageFileSize: 3.062 MiB