Package: celaref Version: 1.27.0 Command: /Library/Frameworks/R.framework/Resources/bin/R CMD build --keep-empty-dirs --no-resave-data celaref StartedAt: 2025-10-12 15:51:14 -0400 (Sun, 12 Oct 2025) EndedAt: 2025-10-12 15:52:19 -0400 (Sun, 12 Oct 2025) EllapsedTime: 64.7 seconds RetCode: 0 Status: OK PackageFile: celaref_1.27.0.tar.gz PackageFileSize: 3.073 MiB