Package: ceRNAnetsim Version: 1.21.0 Command: rm -rf ceRNAnetsim.buildbin-libdir && mkdir ceRNAnetsim.buildbin-libdir && F:\biocbuild\bbs-3.22-bioc\R\bin\R.exe CMD INSTALL --build --library=ceRNAnetsim.buildbin-libdir ceRNAnetsim_1.21.0.tar.gz StartedAt: 2025-08-15 09:55:54 -0400 (Fri, 15 Aug 2025) EndedAt: 2025-08-15 09:56:18 -0400 (Fri, 15 Aug 2025) EllapsedTime: 24.0 seconds RetCode: 0 Status: OK PackageFile: ceRNAnetsim_1.21.0.zip PackageFileSize: 2.363 MiB