Package: ceRNAnetsim Version: 1.23.0 Command: /home/biocbuild/bbs-3.23-bioc/R/bin/R CMD INSTALL ceRNAnetsim StartedAt: 2025-10-31 15:17:10 -0400 (Fri, 31 Oct 2025) EndedAt: 2025-10-31 15:17:18 -0400 (Fri, 31 Oct 2025) EllapsedTime: 7.8 seconds RetCode: 0 Status: OK