Package: ceRNAnetsim Version: 1.23.0 Command: /home/biocbuild/bbs-3.23-bioc/R/bin/R CMD check --install=check:ceRNAnetsim.install-out.txt --library=/home/biocbuild/bbs-3.23-bioc/R/site-library --timings ceRNAnetsim_1.23.0.tar.gz StartedAt: 2025-10-31 21:52:07 -0400 (Fri, 31 Oct 2025) EndedAt: 2025-10-31 21:58:29 -0400 (Fri, 31 Oct 2025) EllapsedTime: 381.7 seconds RetCode: 0 Status: OK CheckDir: ceRNAnetsim.Rcheck Warnings: 0