Package: ceRNAnetsim Version: 1.23.0 Command: /home/biocbuild/bbs-3.23-bioc/R/bin/R CMD build --keep-empty-dirs --no-resave-data ceRNAnetsim StartedAt: 2025-10-31 16:58:48 -0400 (Fri, 31 Oct 2025) EndedAt: 2025-10-31 17:03:12 -0400 (Fri, 31 Oct 2025) EllapsedTime: 264.3 seconds RetCode: 0 Status: OK PackageFile: ceRNAnetsim_1.23.0.tar.gz PackageFileSize: 2.966 MiB