Package: ceRNAnetsim Version: 1.23.0 Command: /Library/Frameworks/R.framework/Resources/bin/R CMD check --install=check:ceRNAnetsim.install-out.txt --library=/Library/Frameworks/R.framework/Resources/library --no-vignettes --timings ceRNAnetsim_1.23.0.tar.gz StartedAt: 2025-11-23 18:59:13 -0500 (Sun, 23 Nov 2025) EndedAt: 2025-11-23 19:00:06 -0500 (Sun, 23 Nov 2025) EllapsedTime: 52.6 seconds RetCode: 0 Status: OK CheckDir: ceRNAnetsim.Rcheck Warnings: 0