Package: ccrepe Version: 1.45.0 Command: /home/biocbuild/R/R/bin/R CMD INSTALL ccrepe StartedAt: 2025-10-23 20:29:45 -0000 (Thu, 23 Oct 2025) EndedAt: 2025-10-23 20:29:56 -0000 (Thu, 23 Oct 2025) EllapsedTime: 10.9 seconds RetCode: 0 Status: OK