Package: ccrepe Version: 1.45.0 Command: /home/biocbuild/bbs-3.22-bioc/R/bin/R CMD check --install=check:ccrepe.install-out.txt --library=/home/biocbuild/bbs-3.22-bioc/R/site-library --timings ccrepe_1.45.0.tar.gz StartedAt: 2025-10-20 21:50:49 -0400 (Mon, 20 Oct 2025) EndedAt: 2025-10-20 21:51:16 -0400 (Mon, 20 Oct 2025) EllapsedTime: 27.0 seconds RetCode: 0 Status: OK CheckDir: ccrepe.Rcheck Warnings: 0