Package: ccrepe Version: 1.47.0 Command: /home/biocbuild/bbs-3.23-bioc/R/bin/R CMD INSTALL ccrepe StartedAt: 2025-11-20 15:10:52 -0500 (Thu, 20 Nov 2025) EndedAt: 2025-11-20 15:11:06 -0500 (Thu, 20 Nov 2025) EllapsedTime: 13.8 seconds RetCode: 0 Status: OK