Package: ccrepe Version: 1.47.0 Command: /home/biocbuild/bbs-3.23-bioc/R/bin/R CMD check --install=check:ccrepe.install-out.txt --library=/home/biocbuild/bbs-3.23-bioc/R/site-library --timings ccrepe_1.47.0.tar.gz StartedAt: 2025-11-25 21:50:53 -0500 (Tue, 25 Nov 2025) EndedAt: 2025-11-25 21:51:21 -0500 (Tue, 25 Nov 2025) EllapsedTime: 28.1 seconds RetCode: 1 Status: ERROR CheckDir: ccrepe.Rcheck Warnings: NA