Package: ccrepe Version: 1.45.0 Command: /Library/Frameworks/R.framework/Resources/bin/R CMD build --keep-empty-dirs --no-resave-data ccrepe StartedAt: 2025-09-29 16:17:01 -0400 (Mon, 29 Sep 2025) EndedAt: 2025-09-29 16:17:21 -0400 (Mon, 29 Sep 2025) EllapsedTime: 20.6 seconds RetCode: 0 Status: OK PackageFile: ccrepe_1.45.0.tar.gz PackageFileSize: 303.6 KiB