Package: ccrepe Version: 1.45.0 Command: rm -rf ccrepe.buildbin-libdir && mkdir ccrepe.buildbin-libdir && /Users/biocbuild/BBS/utils/build-universal.sh ccrepe_1.45.0.tar.gz /Library/Frameworks/R.framework/Resources/bin/R ccrepe.buildbin-libdir StartedAt: 2025-09-30 01:34:19 -0400 (Tue, 30 Sep 2025) EndedAt: 2025-09-30 01:34:26 -0400 (Tue, 30 Sep 2025) EllapsedTime: 6.7 seconds RetCode: 0 Status: OK PackageFile: ccrepe_1.45.0.tgz PackageFileSize: 359.7 KiB