Package: ccrepe Version: 1.45.0 Maintainer: Emma Schwager ,Craig Bielski, George Weingart MaintainerEmail: george.weingart at gmail.com git_url: https://git.bioconductor.org/packages/ccrepe git_branch: devel git_last_commit: 37afa9d git_last_commit_date: 2025-04-15 10:27:57 -0400 (Tue, 15 Apr 2025)