Package: ccmap Version: 1.35.1 Maintainer: Alex Pickering MaintainerEmail: alexvpickering at gmail.com git_url: https://git.bioconductor.org/packages/ccmap git_branch: devel git_last_commit: b597bdf git_last_commit_date: 2025-07-24 08:58:40 -0400 (Thu, 24 Jul 2025)