Package: ccfindR Version: 1.31.0 Command: /home/biocbuild/bbs-3.23-bioc/R/bin/R CMD build --keep-empty-dirs --no-resave-data ccfindR StartedAt: 2025-11-05 16:44:15 -0500 (Wed, 05 Nov 2025) EndedAt: 2025-11-05 16:47:43 -0500 (Wed, 05 Nov 2025) EllapsedTime: 207.1 seconds RetCode: 0 Status: OK PackageFile: ccfindR_1.31.0.tar.gz PackageFileSize: 1.184 MiB