Package: ccfindR Version: 1.29.0 Command: /Library/Frameworks/R.framework/Resources/bin/R CMD INSTALL ccfindR StartedAt: 2025-10-14 15:21:01 -0400 (Tue, 14 Oct 2025) EndedAt: 2025-10-14 15:21:02 -0400 (Tue, 14 Oct 2025) EllapsedTime: 1.1 seconds RetCode: 1 Status: ERROR