Package: ccImpute Version: 1.13.0 Command: /home/biocbuild/bbs-3.23-bioc/R/bin/R CMD INSTALL ccImpute StartedAt: 2025-10-31 15:41:39 -0400 (Fri, 31 Oct 2025) EndedAt: 2025-10-31 15:42:21 -0400 (Fri, 31 Oct 2025) EllapsedTime: 42.6 seconds RetCode: 0 Status: OK