Package: ccImpute Version: 1.13.0 Command: /home/biocbuild/bbs-3.23-bioc/R/bin/R CMD build --keep-empty-dirs --no-resave-data ccImpute StartedAt: 2025-10-31 16:54:25 -0400 (Fri, 31 Oct 2025) EndedAt: 2025-10-31 16:55:22 -0400 (Fri, 31 Oct 2025) EllapsedTime: 57.0 seconds RetCode: 1 Status: ERROR PackageFile: None PackageFileSize: NA