Package: ccImpute Version: 1.13.0 Command: /Library/Frameworks/R.framework/Resources/bin/R CMD INSTALL ccImpute StartedAt: 2025-11-20 15:33:21 -0500 (Thu, 20 Nov 2025) EndedAt: 2025-11-20 15:34:11 -0500 (Thu, 20 Nov 2025) EllapsedTime: 49.9 seconds RetCode: 0 Status: OK