Package: ccImpute Version: 1.13.0 Command: /Library/Frameworks/R.framework/Resources/bin/R CMD build --keep-empty-dirs --no-resave-data ccImpute StartedAt: 2025-11-20 16:23:04 -0500 (Thu, 20 Nov 2025) EndedAt: 2025-11-20 16:26:53 -0500 (Thu, 20 Nov 2025) EllapsedTime: 228.6 seconds RetCode: 0 Status: OK PackageFile: ccImpute_1.13.0.tar.gz PackageFileSize: 986 KiB