Package: ccImpute Version: 1.13.0 Command: rm -rf ccImpute.buildbin-libdir && mkdir ccImpute.buildbin-libdir && /Users/biocbuild/BBS/utils/build-universal.sh ccImpute_1.13.0.tar.gz /Library/Frameworks/R.framework/Resources/bin/R ccImpute.buildbin-libdir StartedAt: 2025-11-21 01:25:08 -0500 (Fri, 21 Nov 2025) EndedAt: 2025-11-21 01:26:04 -0500 (Fri, 21 Nov 2025) EllapsedTime: 56.1 seconds RetCode: 0 Status: OK PackageFile: ccImpute_1.13.0.tgz PackageFileSize: 1.067 MiB