Package: ccImpute Version: 1.11.0 Command: /Library/Frameworks/R.framework/Resources/bin/R CMD INSTALL ccImpute StartedAt: 2025-10-23 15:17:50 -0400 (Thu, 23 Oct 2025) EndedAt: 2025-10-23 15:18:05 -0400 (Thu, 23 Oct 2025) EllapsedTime: 15.2 seconds RetCode: 0 Status: OK