Package: ccImpute Version: 1.11.0 Command: /Library/Frameworks/R.framework/Resources/bin/R CMD build --keep-empty-dirs --no-resave-data ccImpute StartedAt: 2025-10-23 15:51:26 -0400 (Thu, 23 Oct 2025) EndedAt: 2025-10-23 15:53:09 -0400 (Thu, 23 Oct 2025) EllapsedTime: 103.1 seconds RetCode: 0 Status: OK PackageFile: ccImpute_1.11.0.tar.gz PackageFileSize: 986.3 KiB