Package: cbpManager Version: 1.19.0 Command: /Library/Frameworks/R.framework/Resources/bin/R CMD INSTALL cbpManager StartedAt: 2025-11-20 15:18:22 -0500 (Thu, 20 Nov 2025) EndedAt: 2025-11-20 15:18:41 -0500 (Thu, 20 Nov 2025) EllapsedTime: 19.5 seconds RetCode: 0 Status: OK