Package: cbpManager Version: 1.19.0 Command: rm -rf cbpManager.buildbin-libdir && mkdir cbpManager.buildbin-libdir && /Users/biocbuild/BBS/utils/build-universal.sh cbpManager_1.19.0.tar.gz /Library/Frameworks/R.framework/Resources/bin/R cbpManager.buildbin-libdir StartedAt: 2025-11-21 01:25:07 -0500 (Fri, 21 Nov 2025) EndedAt: 2025-11-21 01:25:27 -0500 (Fri, 21 Nov 2025) EllapsedTime: 20.6 seconds RetCode: 0 Status: OK PackageFile: cbpManager_1.19.0.tgz PackageFileSize: 3.825 MiB