Package: cbpManager Version: 1.17.0 Command: /Library/Frameworks/R.framework/Resources/bin/R CMD INSTALL cbpManager StartedAt: 2025-10-20 15:06:22 -0400 (Mon, 20 Oct 2025) EndedAt: 2025-10-20 15:06:28 -0400 (Mon, 20 Oct 2025) EllapsedTime: 5.5 seconds RetCode: 0 Status: OK