Package: cbaf Version: 1.33.0 Command: /home/biocbuild/bbs-3.23-bioc/R/bin/R CMD INSTALL cbaf StartedAt: 2025-11-06 15:43:32 -0500 (Thu, 06 Nov 2025) EndedAt: 2025-11-06 15:43:46 -0500 (Thu, 06 Nov 2025) EllapsedTime: 13.3 seconds RetCode: 1 Status: ERROR