############################################################################## ############################################################################## ### ### Running command: ### ### /home/biocbuild/bbs-3.23-bioc/R/bin/R CMD INSTALL cbaf ### ############################################################################## ############################################################################## * installing to library ‘/home/biocbuild/bbs-3.23-bioc/R/site-library’ * installing *source* package ‘cbaf’ ... ** this is package ‘cbaf’ version ‘1.33.0’ ** using staged installation ** R ** inst ** byte-compile and prepare package for lazy loading Error: object ‘microRNAs’ is not exported by 'namespace:GenomicFeatures' Execution halted ERROR: lazy loading failed for package ‘cbaf’ * removing ‘/home/biocbuild/bbs-3.23-bioc/R/site-library/cbaf’ * restoring previous ‘/home/biocbuild/bbs-3.23-bioc/R/site-library/cbaf’