############################################################################## ############################################################################## ### ### Running command: ### ### /home/biocbuild/bbs-3.23-bioc/R/bin/R CMD build --keep-empty-dirs --no-resave-data cbaf ### ############################################################################## ############################################################################## * checking for file ‘cbaf/DESCRIPTION’ ... OK * preparing ‘cbaf’: * checking DESCRIPTION meta-information ... OK * installing the package (it is needed to build vignettes) ----------------------------------- * installing *source* package ‘cbaf’ ... ** this is package ‘cbaf’ version ‘1.33.0’ ** using staged installation ** R ** inst ** byte-compile and prepare package for lazy loading Error: object ‘microRNAs’ is not exported by 'namespace:GenomicFeatures' Execution halted ERROR: lazy loading failed for package ‘cbaf’ * removing ‘/tmp/RtmpS197ZN/Rinst98b3848f2c42f/cbaf’ ----------------------------------- ERROR: package installation failed