Package: cbaf Version: 1.31.0 Command: /Library/Frameworks/R.framework/Resources/bin/R CMD INSTALL cbaf StartedAt: 2025-10-16 16:07:20 -0400 (Thu, 16 Oct 2025) EndedAt: 2025-10-16 16:08:21 -0400 (Thu, 16 Oct 2025) EllapsedTime: 60.6 seconds RetCode: 0 Status: OK