Package: cbaf Version: 1.31.0 Command: /Library/Frameworks/R.framework/Resources/bin/R CMD build --keep-empty-dirs --no-resave-data cbaf StartedAt: 2025-10-16 16:47:57 -0400 (Thu, 16 Oct 2025) EndedAt: 2025-10-16 16:49:22 -0400 (Thu, 16 Oct 2025) EllapsedTime: 84.6 seconds RetCode: 0 Status: OK PackageFile: cbaf_1.31.0.tar.gz PackageFileSize: 786 KiB