Package: cbaf Version: 1.31.0 Command: /Library/Frameworks/R.framework/Resources/bin/R CMD INSTALL cbaf StartedAt: 2025-10-03 15:23:16 -0400 (Fri, 03 Oct 2025) EndedAt: 2025-10-03 15:23:34 -0400 (Fri, 03 Oct 2025) EllapsedTime: 17.6 seconds RetCode: 0 Status: OK