Package: cbaf Version: 1.31.0 Command: /Library/Frameworks/R.framework/Resources/bin/R CMD build --keep-empty-dirs --no-resave-data cbaf StartedAt: 2025-10-03 15:50:37 -0400 (Fri, 03 Oct 2025) EndedAt: 2025-10-03 15:51:05 -0400 (Fri, 03 Oct 2025) EllapsedTime: 28.3 seconds RetCode: 0 Status: OK PackageFile: cbaf_1.31.0.tar.gz PackageFileSize: 786.1 KiB