Package: cbaf Version: 1.31.0 Command: rm -rf cbaf.buildbin-libdir && mkdir cbaf.buildbin-libdir && /Users/biocbuild/BBS/utils/build-universal.sh cbaf_1.31.0.tar.gz /Library/Frameworks/R.framework/Resources/bin/R cbaf.buildbin-libdir StartedAt: 2025-10-03 22:33:07 -0400 (Fri, 03 Oct 2025) EndedAt: 2025-10-03 22:33:27 -0400 (Fri, 03 Oct 2025) EllapsedTime: 19.4 seconds RetCode: 0 Status: OK PackageFile: cbaf_1.31.0.tgz PackageFileSize: 899.2 KiB