Package: categoryCompare Version: 1.55.0 Command: /home/biocbuild/bbs-3.23-bioc/R/bin/R CMD INSTALL categoryCompare StartedAt: 2025-11-04 15:45:56 -0500 (Tue, 04 Nov 2025) EndedAt: 2025-11-04 15:46:22 -0500 (Tue, 04 Nov 2025) EllapsedTime: 26.7 seconds RetCode: 0 Status: OK