Package: categoryCompare Version: 1.53.0 Command: /Library/Frameworks/R.framework/Resources/bin/R CMD build --keep-empty-dirs --no-resave-data categoryCompare StartedAt: 2025-10-12 16:19:40 -0400 (Sun, 12 Oct 2025) EndedAt: 2025-10-12 16:22:55 -0400 (Sun, 12 Oct 2025) EllapsedTime: 195.3 seconds RetCode: 0 Status: OK PackageFile: categoryCompare_1.53.0.tar.gz PackageFileSize: 3.162 MiB