Package: categoryCompare Version: 1.55.0 Maintainer: Robert M. Flight MaintainerEmail: rflight79 at gmail.com git_url: https://git.bioconductor.org/packages/categoryCompare git_branch: devel git_last_commit: 22bf171 git_last_commit_date: 2025-10-29 10:11:00 -0400 (Wed, 29 Oct 2025)